BEGIN:VCALENDAR
VERSION:2.0
PRODID:-//89.238.170.93//NONSGML kigkonsult.se iCalcreator 2.26.9//
CALSCALE:GREGORIAN
METHOD:PUBLISH
X-WR-CALNAME:British Ladies Club of Luxembourg
X-WR-CALDESC:Social Networking for the International Community
X-FROM-URL:http://www.blc.lu
X-WR-TIMEZONE:Europe/Luxembourg
BEGIN:VTIMEZONE
TZID:Europe/Luxembourg
X-LIC-LOCATION:Europe/Luxembourg
BEGIN:STANDARD
DTSTART:20211031T030000
TZOFFSETFROM:+0200
TZOFFSETTO:+0100
RDATE:20221030T030000
TZNAME:CET
END:STANDARD
BEGIN:DAYLIGHT
DTSTART:20210328T020000
TZOFFSETFROM:+0100
TZOFFSETTO:+0200
RDATE:20220327T020000,20230326T020000
TZNAME:CEST
END:DAYLIGHT
END:VTIMEZONE
BEGIN:VEVENT
UID:ai1ec-33772@www.blc.lu
DTSTAMP:20211007T032146Z
CATEGORIES;LANGUAGE=en-GB:Area Rep &amp\; Member Events\,Charity Event\,Cof
 fee\,Social
CONTACT:Kim & Moira\; area-k@blc.lu
DESCRIPTION:Join Area K for a sale in aid of the BLC and Sheffield Palliati
 ve Care charities.\n Monday 19th November\, from 10am to 1pm\nTo be held i
 n Senningerberg.  All areas welcome.  Just bring something along (can be e
 dible!) and find something you’d like to buy whilst having a coffee & chat
 .\nKim and Moira\n(area-k@blc.lu)\n 
DTSTART;TZID=Europe/Luxembourg:20181119T100000
DTEND;TZID=Europe/Luxembourg:20181119T130000
LOCATION:Senningerberg\, L1670
SEQUENCE:0
SUMMARY:Bring & Buy Sale
URL:http://www.blc.lu/event/bring-and-buy-sale/
X-COST-TYPE:free
X-ALT-DESC;FMTTYPE=text/html:<!DOCTYPE HTML PUBLIC '-//W3C//DTD HTML 3.2//E
 N'>\\n<HTML>\\n<HEAD>\\n<TITLE></TITLE>\\n</HEAD>\\n<BODY><p>Join Area K f
 or a sale in aid of the BLC and Sheffield Palliative Care charities.</p>\n
 <p><b> </b><b>Monday 19th November\, </b><b>from 10am to 1pm</b></p>\n<p>T
 o be held in Senningerberg.  All areas welcome.  Just bring something alon
 g (can be edible!) and find something you’d like to buy whilst having a co
 ffee & chat.</p>\n<p>Kim and Moira</p>\n<p>(<a href='mailto:area-k@blc.lu'
 >area-k@blc.lu</a>)</p>\n<p> </p>\n</BODY></HTML>
END:VEVENT
END:VCALENDAR
