BEGIN:VCALENDAR
VERSION:2.0
PRODID:-//89.238.170.93//NONSGML kigkonsult.se iCalcreator 2.26.9//
CALSCALE:GREGORIAN
METHOD:PUBLISH
X-WR-CALNAME:British Ladies Club of Luxembourg
X-WR-CALDESC:Social Networking for the International Community
X-FROM-URL:http://www.blc.lu
X-WR-TIMEZONE:Europe/Luxembourg
BEGIN:VTIMEZONE
TZID:Europe/Luxembourg
X-LIC-LOCATION:Europe/Luxembourg
BEGIN:STANDARD
DTSTART:20211031T030000
TZOFFSETFROM:+0200
TZOFFSETTO:+0100
RDATE:20221030T030000
TZNAME:CET
END:STANDARD
BEGIN:DAYLIGHT
DTSTART:20210328T020000
TZOFFSETFROM:+0100
TZOFFSETTO:+0200
RDATE:20220327T020000,20230326T020000
TZNAME:CEST
END:DAYLIGHT
END:VTIMEZONE
BEGIN:VEVENT
UID:ai1ec-33771@www.blc.lu
DTSTAMP:20211007T032100Z
CATEGORIES;LANGUAGE=en-GB:Area Rep &amp\; Member Events\,Sport\,Walking / H
 iking
CONTACT:Jen McCue
DESCRIPTION:Jen McCue will lead a walk to lay poppies at the site where the
  RAF Hudson plane crashed in March 1945. This will start at 10am in the vi
 llage of Boxhorn in the north of Luxembourg.\nIt takes around 1 hour to dr
 ive there from Luxembourg city. The walk is 12 kms long and should take ar
 ound 2.5 – 3hours but is not too hilly.\nIf you would like to join Jen or 
 need further details please contact her.\n 
DTSTART;TZID=Europe/Luxembourg:20181112T100000
LOCATION:village of Boxhorn @ North\, Luxembourg
SEQUENCE:0
SUMMARY:Remembrance Walk
URL:http://www.blc.lu/event/remembrance-walk/
X-COST-TYPE:free
X-ALT-DESC;FMTTYPE=text/html:<!DOCTYPE HTML PUBLIC '-//W3C//DTD HTML 3.2//E
 N'>\\n<HTML>\\n<HEAD>\\n<TITLE></TITLE>\\n</HEAD>\\n<BODY><p>Jen McCue wil
 l lead a walk to lay poppies at the site where the RAF Hudson plane crashe
 d in March 1945. This will start at 10am in the village of Boxhorn in the 
 north of Luxembourg.</p>\n<p>It takes around 1 hour to drive there from Lu
 xembourg city. The walk is 12 kms long and should take around 2.5 – 3hours
  but is not too hilly.</p>\n<p>If you would like to join Jen or need furth
 er details please contact her.</p>\n<p> </p>\n</BODY></HTML>
X-INSTANT-EVENT:1
END:VEVENT
END:VCALENDAR
