BEGIN:VCALENDAR
VERSION:2.0
PRODID:-//89.238.170.93//NONSGML kigkonsult.se iCalcreator 2.26.9//
CALSCALE:GREGORIAN
METHOD:PUBLISH
X-WR-CALNAME:British Ladies Club of Luxembourg
X-WR-CALDESC:Social Networking for the International Community
X-FROM-URL:http://www.blc.lu
X-WR-TIMEZONE:Europe/Luxembourg
BEGIN:VTIMEZONE
TZID:Europe/Luxembourg
X-LIC-LOCATION:Europe/Luxembourg
BEGIN:STANDARD
DTSTART:20211031T030000
TZOFFSETFROM:+0200
TZOFFSETTO:+0100
RDATE:20221030T030000
TZNAME:CET
END:STANDARD
BEGIN:DAYLIGHT
DTSTART:20210328T020000
TZOFFSETFROM:+0100
TZOFFSETTO:+0200
RDATE:20220327T020000,20230326T020000
TZNAME:CEST
END:DAYLIGHT
END:VTIMEZONE
BEGIN:VEVENT
UID:ai1ec-30358@www.blc.lu
DTSTAMP:20211007T031917Z
CATEGORIES;LANGUAGE=en-GB:Area Rep &amp\; Member Events\,Coffee\,Social
CONTACT:Kim & Moira\; area-k@blc.lu\; http://www.naturata.lu/de/geschaefte/
DESCRIPTION:Join Area K for a croissant and a coffee at  Naturata\, Munsbac
 h\nMonday 22nd October\, \nfrom 9.30am to 11am\nRSVP to Kim and Moira\n(ar
 ea-k@blc.lu)\n 
DTSTART;TZID=Europe/Luxembourg:20181022T093000
DTEND;TZID=Europe/Luxembourg:20181022T110000
LOCATION:Naturata @ 13 Rue Gabriel Lippmann\, 5365 Schuttrange
SEQUENCE:0
SUMMARY:Coffee Get Together
URL:http://www.blc.lu/event/coffee-get-together/
X-COST-TYPE:free
X-ALT-DESC;FMTTYPE=text/html:<!DOCTYPE HTML PUBLIC '-//W3C//DTD HTML 3.2//E
 N'>\\n<HTML>\\n<HEAD>\\n<TITLE></TITLE>\\n</HEAD>\\n<BODY><p>Join Area K f
 or a croissant and a coffee at  Naturata\, Munsbach</p>\n<p><b>Monday 22nd
  October\, </b></p>\n<p><b>from 9.30am to 11am</b></p>\n<p>RSVP to Kim and
  Moira</p>\n<p>(<a href='mailto:area-k@blc.lu'>area-k@blc.lu</a>)</p>\n<p>
  </p>\n</BODY></HTML>
END:VEVENT
END:VCALENDAR
