BEGIN:VCALENDAR
VERSION:2.0
PRODID:-//89.238.170.93//NONSGML kigkonsult.se iCalcreator 2.26.9//
CALSCALE:GREGORIAN
METHOD:PUBLISH
X-WR-CALNAME:British Ladies Club of Luxembourg
X-WR-CALDESC:Social Networking for the International Community
X-FROM-URL:http://www.blc.lu
X-WR-TIMEZONE:Europe/Luxembourg
BEGIN:VTIMEZONE
TZID:Europe/Luxembourg
X-LIC-LOCATION:Europe/Luxembourg
BEGIN:STANDARD
DTSTART:20211031T030000
TZOFFSETFROM:+0200
TZOFFSETTO:+0100
RDATE:20221030T030000
TZNAME:CET
END:STANDARD
BEGIN:DAYLIGHT
DTSTART:20210328T020000
TZOFFSETFROM:+0100
TZOFFSETTO:+0200
RDATE:20220327T020000,20230326T020000
TZNAME:CEST
END:DAYLIGHT
END:VTIMEZONE
BEGIN:VEVENT
UID:ai1ec-22972@www.blc.lu
DTSTAMP:20211007T031633Z
CATEGORIES;LANGUAGE=en-GB:BLC Events\,Social\,Walking / Hiking
CONTACT:Victoria\; events@blc.lu
DESCRIPTION:Fancy a Hike?\nA great hike to start the Autumn months\nYou wil
 l need to make sure you sign up\, so we know how many people to expect and
  so we know who to wait for at the start\, and you must bring your mask wi
 th you.\nWhen – Tuesday 12 October 2021\nTime – 9.15am for 9.30 prompt sta
 rt.\nWhere – Esch-Sur-Alzette hike 7.2Km\, starting at the car park nest t
 o the city park Gaalgebierg.\nPlease register with Victoria at chair@blc.l
 u or events@blc.lu\nIf you would like to lead a walk or have suggestions\,
  please let us know.\n \n \n \n \n \n \n \n \n \n \n 
DTSTART;TZID=Europe/Luxembourg:20211012T091500
LOCATION:Esch-Sur-Alzette hike 7.2Km @ starting at the car park nest to the
  city park Gaalgebierg
SEQUENCE:0
SUMMARY:BLC Walking Group
URL:http://www.blc.lu/event/blc-walking-group/
X-COST-TYPE:free
X-ALT-DESC;FMTTYPE=text/html:<!DOCTYPE HTML PUBLIC '-//W3C//DTD HTML 3.2//E
 N'>\\n<HTML>\\n<HEAD>\\n<TITLE></TITLE>\\n</HEAD>\\n<BODY><p><strong>Fancy
  a Hike?</strong></p>\n<p><b>A great hike to start the Autumn months</b></
 p>\n<p>You will need to make sure you sign up\, so we know how many people
  to expect and so we know who to wait for at the start\, and you must brin
 g your mask with you.</p>\n<p><strong>When</strong> – Tuesday 12 October 2
 021<br />\n<strong>Time</strong> – 9.15am for 9.30 prompt start.<br />\n<s
 trong>Where</strong> – Esch-Sur-Alzette hike 7.2Km\, starting at the car p
 ark nest to the city park Gaalgebierg.</p>\n<p>Please register with Victor
 ia at <a href='mailto:chair@blc.lu'>chair@blc.lu</a> or <a href='mailto:ev
 ents@blc.lu'>events@blc.lu</a></p>\n<p>If you would like to lead a walk or
  have suggestions\, please let us know.</p>\n<p> </p>\n<p> </p>\n<p> </p>
 \n<p> </p>\n<p> </p>\n<p> </p>\n<p> </p>\n<p> </p>\n<p> </p>\n<p> </p>\n<p
 > </p>\n</BODY></HTML>
X-INSTANT-EVENT:1
END:VEVENT
END:VCALENDAR
