BEGIN:VCALENDAR
VERSION:2.0
PRODID:-//89.238.170.93//NONSGML kigkonsult.se iCalcreator 2.26.9//
CALSCALE:GREGORIAN
METHOD:PUBLISH
X-WR-CALNAME:British Ladies Club of Luxembourg
X-WR-CALDESC:Social Networking for the International Community
X-FROM-URL:http://www.blc.lu
X-WR-TIMEZONE:Europe/Luxembourg
BEGIN:VTIMEZONE
TZID:Europe/Luxembourg
X-LIC-LOCATION:Europe/Luxembourg
BEGIN:STANDARD
DTSTART:20211031T030000
TZOFFSETFROM:+0200
TZOFFSETTO:+0100
RDATE:20221030T030000
TZNAME:CET
END:STANDARD
BEGIN:DAYLIGHT
DTSTART:20210328T020000
TZOFFSETFROM:+0100
TZOFFSETTO:+0200
RDATE:20220327T020000,20230326T020000
TZNAME:CEST
END:DAYLIGHT
END:VTIMEZONE
BEGIN:VEVENT
UID:ai1ec-18453@www.blc.lu
DTSTAMP:20211007T032037Z
CATEGORIES;LANGUAGE=en-GB:Area Rep &amp\; Member Events\,Social\,Sport\,Wal
 king / Hiking
CONTACT:Cherry\; Area H rep\; area-h@blc.lu
DESCRIPTION:Join us again for a lovely 5km walk in the forest in Medingen.
 \nMonday 12th November at 9.30am\nMeet at the bus/car park. All areas welc
 ome. I will be bringing my baby in an ‘outdoors’ pushchair (it can get a b
 it bumpy). Bring a little snack and a drink for a pit stop midway.  Bus 16
 3 stops at the entrance to the forest.\nAll areas welcome.\nPlease let Che
 rry know if you are interested: area-h@blc.lu
DTSTART;TZID=Europe/Luxembourg:20181112T093000
GEO:+49.57516;+6.24893
LOCATION:Medingen\, Luxembourg
SEQUENCE:0
SUMMARY:Forest Walk
URL:http://www.blc.lu/event/forest-walk/
X-COST-TYPE:free
X-ALT-DESC;FMTTYPE=text/html:<!DOCTYPE HTML PUBLIC '-//W3C//DTD HTML 3.2//E
 N'>\\n<HTML>\\n<HEAD>\\n<TITLE></TITLE>\\n</HEAD>\\n<BODY><p>Join us again
  for a lovely 5km walk in the forest in Medingen.</p>\n<p><b>Monday 12th N
 ovember at 9.30am</b></p>\n<p>Meet at the bus/car park. All areas welcome.
  I will be bringing my baby in an ‘outdoors’ pushchair (it can get a bit b
 umpy). Bring a little snack and a drink for a pit stop midway.  Bus 163 st
 ops at the entrance to the forest.</p>\n<p>All areas welcome.</p>\n<p>Plea
 se let Cherry know if you are interested: <a href='mailto:area-h@blc.lu'>a
 rea-h@blc.lu</a></p>\n</BODY></HTML>
X-INSTANT-EVENT:1
END:VEVENT
END:VCALENDAR
