BEGIN:VCALENDAR
VERSION:2.0
PRODID:-//195.8.196.23//NONSGML kigkonsult.se iCalcreator 2.26.9//
CALSCALE:GREGORIAN
METHOD:PUBLISH
X-WR-CALNAME:British Ladies Club of Luxembourg
X-WR-CALDESC:Social Networking for the International Community
X-FROM-URL:http://www.blc.lu
X-WR-TIMEZONE:Europe/Luxembourg
BEGIN:VTIMEZONE
TZID:Europe/Luxembourg
X-LIC-LOCATION:Europe/Luxembourg
BEGIN:STANDARD
DTSTART:20191027T030000
TZOFFSETFROM:+0200
TZOFFSETTO:+0100
RDATE:20201025T030000
TZNAME:CET
END:STANDARD
BEGIN:DAYLIGHT
DTSTART:20190331T020000
TZOFFSETFROM:+0100
TZOFFSETTO:+0200
RDATE:20200329T020000
TZNAME:CEST
END:DAYLIGHT
END:VTIMEZONE
BEGIN:VEVENT
UID:ai1ec-14134@www.blc.lu
DTSTAMP:20190823T153129Z
CATEGORIES;LANGUAGE=en-GB:Charity Event\,Social
CONTACT:Kim & Moira\; area-k@blc.lu
DESCRIPTION:Come and join us for a fun morning bringing and buying with all
  proceeds going to our BLC charities. Please bring homemade cakes/savoury 
 items or any unwanted gifts. Greetings cards will also be on sale.\n Monda
 y 13th November\, 10 am – 1 pm\nEmail area-k@blc.lu for full address.\nKim
  and Moira (Area K)\n 
DTSTART;TZID=Europe/Luxembourg:20171113T100000
DTEND;TZID=Europe/Luxembourg:20171113T130000
LOCATION:Kim’s house @ Senningerberg
SEQUENCE:0
SUMMARY:Bring and Buy Charity Event
URL:http://www.blc.lu/event/bring-and-buy-charity-event/
X-COST-TYPE:free
X-ALT-DESC;FMTTYPE=text/html:<!DOCTYPE HTML PUBLIC '-//W3C//DTD HTML 3.2//E
 N'>\\n<HTML>\\n<HEAD>\\n<TITLE></TITLE>\\n</HEAD>\\n<BODY><p>Come and join
  us for a fun morning bringing and buying with all proceeds going to our B
 LC charities. Please bring homemade cakes/savoury items or any unwanted gi
 fts. Greetings cards will also be on sale.</p>\n<p><b> </b><b>Monday 13th 
 November\, 10 am – 1 pm</b></p>\n<p>Email <a href='mailto:area-k@blc.lu'>a
 rea-k@blc.lu</a> for full address.</p>\n<p>Kim and Moira (Area K)</p>\n<p>
  </p>\n</BODY></HTML>
END:VEVENT
END:VCALENDAR
