BEGIN:VCALENDAR
VERSION:2.0
PRODID:-//89.238.170.93//NONSGML kigkonsult.se iCalcreator 2.26.9//
CALSCALE:GREGORIAN
METHOD:PUBLISH
X-WR-CALNAME:British Ladies Club of Luxembourg
X-WR-CALDESC:Social Networking for the International Community
X-FROM-URL:http://www.blc.lu
X-WR-TIMEZONE:Europe/Luxembourg
BEGIN:VTIMEZONE
TZID:Europe/Luxembourg
X-LIC-LOCATION:Europe/Luxembourg
BEGIN:STANDARD
DTSTART:20211031T030000
TZOFFSETFROM:+0200
TZOFFSETTO:+0100
RDATE:20221030T030000
TZNAME:CET
END:STANDARD
BEGIN:DAYLIGHT
DTSTART:20210328T020000
TZOFFSETFROM:+0100
TZOFFSETTO:+0200
RDATE:20220327T020000,20230326T020000
TZNAME:CEST
END:DAYLIGHT
END:VTIMEZONE
BEGIN:VEVENT
UID:ai1ec-10077@www.blc.lu
DTSTAMP:20211007T032611Z
CATEGORIES;LANGUAGE=en-GB:Area Rep &amp\; Member Events\,Lunch / Dinner\,So
 cial
CONTACT:Iris\; Area N rep\; area-n@blc.lu\; http://www.peppermint.lu
DESCRIPTION:Area N Dinner\nWednesday 6th February\, at 7.30pm\nRSVP to Iris
  (area-n@blc.lu) by February 4th.\nAll areas welcome!\n \n \n \n \n 
DTSTART;TZID=Europe/Luxembourg:20190206T193000
LOCATION:Peppermint @ 3 Rue des Trévires\, 2628 Luxembourg
SEQUENCE:0
SUMMARY:Join us for Dinner
URL:http://www.blc.lu/event/join-us-for-dinner/
X-COST-TYPE:free
X-ALT-DESC;FMTTYPE=text/html:<!DOCTYPE HTML PUBLIC '-//W3C//DTD HTML 3.2//E
 N'>\\n<HTML>\\n<HEAD>\\n<TITLE></TITLE>\\n</HEAD>\\n<BODY><p><b>Area N Din
 ner</b></p>\n<p><b>Wednesday 6th February\, </b><b>at 7.30pm</b></p>\n<p>R
 SVP to Iris (<a href='mailto:area-n@blc.lu'>area-n@blc.lu</a>) by February
  4th.</p>\n<p>All areas welcome!</p>\n<p> </p>\n<p> </p>\n<p> </p>\n<p> </
 p>\n<p> </p>\n</BODY></HTML>
X-INSTANT-EVENT:1
END:VEVENT
END:VCALENDAR
